BEGIN:VCALENDAR
VERSION:2.0
PRODID:Imitheme.com 
BEGIN:VEVENT
UID:20260423T0848222018606055
DTSTAMP;TZID=UTC:20260423T084822
DTSTART;TZID=UTC:20261022T000000
DTEND;TZID=UTC:20261022T000000
SUMMARY:T3 Expo
LOCATION:
DESCRIPTION:La fiera italiana dei veicoli e mezzi per il trasporto stradale Giornate Italiane dell\'Allestitore &nbsp\; organizzato da MEDIAPOINT &amp\; EXHIBITIONS SRL tel. 010-5704948 <a href=\"https\://tcube-expo.it/\">Vai al sito</a>
END:VEVENT
END:VCALENDAR
