BEGIN:VCALENDAR
VERSION:2.0
PRODID:Imitheme.com 
BEGIN:VEVENT
UID:20260423T0849451035531657
DTSTAMP;TZID=UTC:20260423T084945
DTSTART;TZID=UTC:20270130T000000
DTEND;TZID=UTC:20270130T000000
SUMMARY:CONVEGNO INTERNAZIONALE ZOOTECNIA
LOCATION:
DESCRIPTION:FORAGGIO E FIBRA\: ALLE ORIGINI DEL LATTE Organizzato da Edice srl <em>Ingresso e pregistrazione a pagamento</em> <a href=\"https\://www.foraggidiqualita.org/\" target=\"_blank\" rel=\"noopener\">Vai al sito</a>
END:VEVENT
END:VCALENDAR
