BEGIN:VCALENDAR
VERSION:2.0
PRODID:Imitheme.com 
BEGIN:VEVENT
UID:20260423T0849291928686587
DTSTAMP;TZID=UTC:20260423T084929
DTSTART;TZID=UTC:20271001T000000
DTEND;TZID=UTC:20271001T000000
SUMMARY:BATTERY WORLD
LOCATION:
DESCRIPTION:1° SALONE DEDICATO ALLA FILIERA INDUSTRIALE DELLE BATTERIE E DEI SISTEMI DI ACCUMULO ELETTROCHIMICI <a href=\"https\://www.zeroemission.show/cose-battery-world/\">Vai al sito</a>
END:VEVENT
END:VCALENDAR
