BEGIN:VCALENDAR
VERSION:2.0
PRODID:Imitheme.com 
BEGIN:VEVENT
UID:20260423T0849291703682891
DTSTAMP;TZID=UTC:20260423T084929
DTSTART;TZID=UTC:20271027T000000
DTEND;TZID=UTC:20271027T000000
SUMMARY:TT EXPO
LOCATION:
DESCRIPTION:Exhibition-conference on thermal treatments and related technologies. <a href=\"http\://www.ttexpo.it\">visit website</a>
END:VEVENT
END:VCALENDAR
